BEGIN:VCALENDAR
VERSION:2.0
PRODID:-//Camp de Benneville Pines - ECPv6.15.20//NONSGML v1.0//EN
CALSCALE:GREGORIAN
METHOD:PUBLISH
X-ORIGINAL-URL:https://uucamp.org
X-WR-CALDESC:Events for Camp de Benneville Pines
REFRESH-INTERVAL;VALUE=DURATION:PT1H
X-Robots-Tag:noindex
X-PUBLISHED-TTL:PT1H
BEGIN:VTIMEZONE
TZID:America/Los_Angeles
BEGIN:DAYLIGHT
TZOFFSETFROM:-0800
TZOFFSETTO:-0700
TZNAME:PDT
DTSTART:20240310T100000
END:DAYLIGHT
BEGIN:STANDARD
TZOFFSETFROM:-0700
TZOFFSETTO:-0800
TZNAME:PST
DTSTART:20241103T090000
END:STANDARD
BEGIN:DAYLIGHT
TZOFFSETFROM:-0800
TZOFFSETTO:-0700
TZNAME:PDT
DTSTART:20250309T100000
END:DAYLIGHT
BEGIN:STANDARD
TZOFFSETFROM:-0700
TZOFFSETTO:-0800
TZNAME:PST
DTSTART:20251102T090000
END:STANDARD
BEGIN:DAYLIGHT
TZOFFSETFROM:-0800
TZOFFSETTO:-0700
TZNAME:PDT
DTSTART:20260308T100000
END:DAYLIGHT
BEGIN:STANDARD
TZOFFSETFROM:-0700
TZOFFSETTO:-0800
TZNAME:PST
DTSTART:20261101T090000
END:STANDARD
BEGIN:DAYLIGHT
TZOFFSETFROM:-0800
TZOFFSETTO:-0700
TZNAME:PDT
DTSTART:20270314T100000
END:DAYLIGHT
BEGIN:STANDARD
TZOFFSETFROM:-0700
TZOFFSETTO:-0800
TZNAME:PST
DTSTART:20271107T090000
END:STANDARD
END:VTIMEZONE
BEGIN:VEVENT
DTSTART;VALUE=DATE:20260403
DTEND;VALUE=DATE:20260406
DTSTAMP:20260421T082252
CREATED:20251205T160918Z
LAST-MODIFIED:20251205T160918Z
UID:10000063-1775174400-1775433599@uucamp.org
SUMMARY:Camp Available to Lease (Easter Weekend)
DESCRIPTION:
URL:https://uucamp.org/event/camp-available-to-lease-easter-weekend/
CATEGORIES:Available
END:VEVENT
BEGIN:VEVENT
DTSTART;VALUE=DATE:20250727
DTEND;VALUE=DATE:20250731
DTSTAMP:20260421T082252
CREATED:20250728T035849Z
LAST-MODIFIED:20250217T050716Z
UID:10000010-1753574400-1753919999@uucamp.org
SUMMARY:Available to lease: 909-435-6298
DESCRIPTION:
URL:https://uucamp.org/event/available-to-lease-909-435-6298-6/
CATEGORIES:Available
END:VEVENT
BEGIN:VEVENT
DTSTART;VALUE=DATE:20250418
DTEND;VALUE=DATE:20250421
DTSTAMP:20260421T082252
CREATED:20250216T142455Z
LAST-MODIFIED:20250216T142455Z
UID:10000009-1744934400-1745193599@uucamp.org
SUMMARY:Available to lease: 909-435-6298
DESCRIPTION:
URL:https://uucamp.org/event/available-to-lease-909-435-6298-5/
CATEGORIES:Available
END:VEVENT
BEGIN:VEVENT
DTSTART;VALUE=DATE:20250328
DTEND;VALUE=DATE:20250331
DTSTAMP:20260421T082252
CREATED:20250217T051111Z
LAST-MODIFIED:20250217T051111Z
UID:10000011-1743120000-1743379199@uucamp.org
SUMMARY:Available to lease: 909-435-6298
DESCRIPTION:
URL:https://uucamp.org/event/available-to-lease-909-435-6298-7/
CATEGORIES:Available
END:VEVENT
BEGIN:VEVENT
DTSTART;TZID=America/Los_Angeles:20250321T080000
DTEND;TZID=America/Los_Angeles:20250323T170000
DTSTAMP:20260421T082252
CREATED:20250216T142130Z
LAST-MODIFIED:20250216T142130Z
UID:10000008-1742544000-1742749200@uucamp.org
SUMMARY:Available to lease: 909-435-6298
DESCRIPTION:
URL:https://uucamp.org/event/available-to-lease-909-435-6298-4/
CATEGORIES:Available
END:VEVENT
BEGIN:VEVENT
DTSTART;VALUE=DATE:20250314
DTEND;VALUE=DATE:20250317
DTSTAMP:20260421T082252
CREATED:20250216T141954Z
LAST-MODIFIED:20250216T141954Z
UID:10000007-1741910400-1742169599@uucamp.org
SUMMARY:Available to lease: 909-435-6298
DESCRIPTION:
URL:https://uucamp.org/event/available-to-lease-909-435-6298-3/
CATEGORIES:Available
END:VEVENT
END:VCALENDAR