BEGIN:VCALENDAR
VERSION:2.0
PRODID:-//Camp de Benneville Pines - ECPv6.15.20//NONSGML v1.0//EN
CALSCALE:GREGORIAN
METHOD:PUBLISH
X-WR-CALNAME:Camp de Benneville Pines
X-ORIGINAL-URL:https://uucamp.org
X-WR-CALDESC:Events for Camp de Benneville Pines
REFRESH-INTERVAL;VALUE=DURATION:PT1H
X-Robots-Tag:noindex
X-PUBLISHED-TTL:PT1H
BEGIN:VTIMEZONE
TZID:America/Los_Angeles
BEGIN:DAYLIGHT
TZOFFSETFROM:-0800
TZOFFSETTO:-0700
TZNAME:PDT
DTSTART:20250309T100000
END:DAYLIGHT
BEGIN:STANDARD
TZOFFSETFROM:-0700
TZOFFSETTO:-0800
TZNAME:PST
DTSTART:20251102T090000
END:STANDARD
BEGIN:DAYLIGHT
TZOFFSETFROM:-0800
TZOFFSETTO:-0700
TZNAME:PDT
DTSTART:20260308T100000
END:DAYLIGHT
BEGIN:STANDARD
TZOFFSETFROM:-0700
TZOFFSETTO:-0800
TZNAME:PST
DTSTART:20261101T090000
END:STANDARD
BEGIN:DAYLIGHT
TZOFFSETFROM:-0800
TZOFFSETTO:-0700
TZNAME:PDT
DTSTART:20270314T100000
END:DAYLIGHT
BEGIN:STANDARD
TZOFFSETFROM:-0700
TZOFFSETTO:-0800
TZNAME:PST
DTSTART:20271107T090000
END:STANDARD
END:VTIMEZONE
BEGIN:VEVENT
DTSTART;VALUE=DATE:20260522
DTEND;VALUE=DATE:20260526
DTSTAMP:20260421T024129
CREATED:20251205T163619Z
LAST-MODIFIED:20251205T163619Z
UID:10000071-1779408000-1779753599@uucamp.org
SUMMARY:Camp Bravo Reunion Camp
DESCRIPTION:
URL:https://uucamp.org/event/camp-bravo-reunion-camp/
CATEGORIES:Inter Generational,Non-Affiliated
END:VEVENT
BEGIN:VEVENT
DTSTART;VALUE=DATE:20260814
DTEND;VALUE=DATE:20260817
DTSTAMP:20260421T024129
CREATED:20251205T224823Z
LAST-MODIFIED:20260321T152846Z
UID:10000101-1786665600-1786924799@uucamp.org
SUMMARY:LARPing Games Camp😊🎫
DESCRIPTION:Misty Mountain Adventure LARP (Live Action Role Play) is for families and independent campers. Minors must attend with an adult. \n 
URL:https://uucamp.org/event/larping-games-camp-young-adults-camp-2/
CATEGORIES:Adult,Family,Inter Generational,Young Adult
END:VEVENT
BEGIN:VEVENT
DTSTART;VALUE=DATE:20260924
DTEND;VALUE=DATE:20260928
DTSTAMP:20260421T024129
CREATED:20251205T195709Z
LAST-MODIFIED:20260124T040933Z
UID:10000089-1790208000-1790553599@uucamp.org
SUMMARY:Reunion of de Benneville Pines YoUUth Campers of the 70s\, 80s\, 90s 😊🎫
DESCRIPTION:
URL:https://uucamp.org/event/reunion_camp/
CATEGORIES:Adult,Family,Inter Generational
END:VEVENT
BEGIN:VEVENT
DTSTART;VALUE=DATE:20261023
DTEND;VALUE=DATE:20261026
DTSTAMP:20260421T024129
CREATED:20251205T200900Z
LAST-MODIFIED:20251205T200900Z
UID:10000093-1792713600-1792972799@uucamp.org
SUMMARY:PineCon Board Game Retreat
DESCRIPTION:
URL:https://uucamp.org/event/pinecon-board-game-retreat/
CATEGORIES:Adult,Inter Generational,Young Adult,Youth
END:VEVENT
BEGIN:VEVENT
DTSTART;VALUE=DATE:20261120
DTEND;VALUE=DATE:20261123
DTSTAMP:20260421T024129
CREATED:20251205T202538Z
LAST-MODIFIED:20251205T202538Z
UID:10000097-1795132800-1795391999@uucamp.org
SUMMARY:Volunteer Work Camp--Help to get camp ready for winter!
DESCRIPTION:
URL:https://uucamp.org/event/volunteer-work-camp-help-to-get-camp-ready-for-winter/
CATEGORIES:Adult,Affiliated,Inter Generational,Youth
END:VEVENT
BEGIN:VEVENT
DTSTART;VALUE=DATE:20261126
DTEND;VALUE=DATE:20261130
DTSTAMP:20260421T024129
CREATED:20251205T202744Z
LAST-MODIFIED:20251205T202744Z
UID:10000098-1795651200-1795996799@uucamp.org
SUMMARY:Thanksgiving Intergenerational Camp--All are welcome!
DESCRIPTION:
URL:https://uucamp.org/event/thanksgiving-intergenerational-camp-all-are-welcome/
CATEGORIES:Affiliated,Family,Inter Generational
END:VEVENT
END:VCALENDAR