BEGIN:VCALENDAR
VERSION:2.0
PRODID:-//Camp de Benneville Pines - ECPv6.15.20//NONSGML v1.0//EN
CALSCALE:GREGORIAN
METHOD:PUBLISH
X-WR-CALNAME:Camp de Benneville Pines
X-ORIGINAL-URL:https://uucamp.org
X-WR-CALDESC:Events for Camp de Benneville Pines
REFRESH-INTERVAL;VALUE=DURATION:PT1H
X-Robots-Tag:noindex
X-PUBLISHED-TTL:PT1H
BEGIN:VTIMEZONE
TZID:UTC
BEGIN:STANDARD
TZOFFSETFROM:+0000
TZOFFSETTO:+0000
TZNAME:UTC
DTSTART:20240101T000000
END:STANDARD
END:VTIMEZONE
BEGIN:VEVENT
DTSTART;VALUE=DATE:20250221
DTEND;VALUE=DATE:20250224
DTSTAMP:20260421T113755
CREATED:20250216T053814Z
LAST-MODIFIED:20250217T132217Z
UID:10000005-1740096000-1740355199@uucamp.org
SUMMARY:Available to lease: 909-435-6298
DESCRIPTION:
URL:https://uucamp.org/event/available-to-lease-909-435-6298/
END:VEVENT
END:VCALENDAR