BEGIN:VCALENDAR
VERSION:2.0
PRODID:-//Camp de Benneville Pines - ECPv6.15.20//NONSGML v1.0//EN
CALSCALE:GREGORIAN
METHOD:PUBLISH
X-ORIGINAL-URL:https://uucamp.org
X-WR-CALDESC:Events for Camp de Benneville Pines
REFRESH-INTERVAL;VALUE=DURATION:PT1H
X-Robots-Tag:noindex
X-PUBLISHED-TTL:PT1H
BEGIN:VTIMEZONE
TZID:America/Los_Angeles
BEGIN:DAYLIGHT
TZOFFSETFROM:-0800
TZOFFSETTO:-0700
TZNAME:PDT
DTSTART:20240310T100000
END:DAYLIGHT
BEGIN:STANDARD
TZOFFSETFROM:-0700
TZOFFSETTO:-0800
TZNAME:PST
DTSTART:20241103T090000
END:STANDARD
BEGIN:DAYLIGHT
TZOFFSETFROM:-0800
TZOFFSETTO:-0700
TZNAME:PDT
DTSTART:20250309T100000
END:DAYLIGHT
BEGIN:STANDARD
TZOFFSETFROM:-0700
TZOFFSETTO:-0800
TZNAME:PST
DTSTART:20251102T090000
END:STANDARD
BEGIN:DAYLIGHT
TZOFFSETFROM:-0800
TZOFFSETTO:-0700
TZNAME:PDT
DTSTART:20260308T100000
END:DAYLIGHT
BEGIN:STANDARD
TZOFFSETFROM:-0700
TZOFFSETTO:-0800
TZNAME:PST
DTSTART:20261101T090000
END:STANDARD
END:VTIMEZONE
BEGIN:VEVENT
DTSTART;VALUE=DATE:20250801
DTEND;VALUE=DATE:20250804
DTSTAMP:20260423T015541
CREATED:20250217T124602Z
LAST-MODIFIED:20250217T124602Z
UID:10000030-1754006400-1754265599@uucamp.org
SUMMARY:First Baptist Church of Redlands Family Retreat
DESCRIPTION:
URL:https://uucamp.org/event/first-baptist-church-of-redlands-family-retreat/
CATEGORIES:Church
END:VEVENT
BEGIN:VEVENT
DTSTART;VALUE=DATE:20250807
DTEND;VALUE=DATE:20250812
DTSTAMP:20260423T015541
CREATED:20250217T124735Z
LAST-MODIFIED:20250217T124735Z
UID:10000031-1754524800-1754956799@uucamp.org
SUMMARY:Summer Break Camp for Adults
DESCRIPTION:
URL:https://uucamp.org/event/summer-break-camp-for-adults/
CATEGORIES:Adult
END:VEVENT
BEGIN:VEVENT
DTSTART;VALUE=DATE:20250815
DTEND;VALUE=DATE:20250818
DTSTAMP:20260423T015541
CREATED:20250217T124918Z
LAST-MODIFIED:20250817T014407Z
UID:10000032-1755216000-1755475199@uucamp.org
SUMMARY:LARPing😊🎫
DESCRIPTION:
URL:https://uucamp.org/event/larping/
CATEGORIES:Affiliated
END:VEVENT
BEGIN:VEVENT
DTSTART;TZID=America/Los_Angeles:20250815T160000
DTEND;TZID=America/Los_Angeles:20250817T120000
DTSTAMP:20260423T015541
CREATED:20250815T221715Z
LAST-MODIFIED:20250815T221715Z
UID:10000051-1755273600-1755432000@uucamp.org
SUMMARY:2025 UU Young Adult Camp😊🎫
DESCRIPTION:
URL:https://uucamp.org/event/2025-uu-young-adult-camp%f0%9f%98%8a%f0%9f%8e%ab/
END:VEVENT
BEGIN:VEVENT
DTSTART;VALUE=DATE:20250822
DTEND;VALUE=DATE:20250825
DTSTAMP:20260423T015541
CREATED:20250217T125127Z
LAST-MODIFIED:20250217T125127Z
UID:10000033-1755820800-1756079999@uucamp.org
SUMMARY:Neighborhood UU Church Family Camp
DESCRIPTION:
URL:https://uucamp.org/event/neighborhood-uu-church-family-camp/
CATEGORIES:Church
END:VEVENT
BEGIN:VEVENT
DTSTART;TZID=America/Los_Angeles:20250829T150000
DTEND;TZID=America/Los_Angeles:20250901T130000
DTSTAMP:20260423T015541
CREATED:20250831T042717Z
LAST-MODIFIED:20250831T042717Z
UID:10000053-1756479600-1756731600@uucamp.org
SUMMARY:Camp Ground😊🎫
DESCRIPTION:
URL:https://uucamp.org/event/camp-ground%f0%9f%98%8a%f0%9f%8e%ab/
END:VEVENT
END:VCALENDAR